BEGIN:VCALENDAR
VERSION:2.0
CALSCALE:GREGORIAN
PRODID:adamgibbons/ics
METHOD:PUBLISH
X-PUBLISHED-TTL:PT1H
BEGIN:VEVENT
UID:277@calendarte.illustietor.com
SUMMARY:44ª COMIC BARCELONA
DTSTAMP:20260421T203942Z
DTSTART:20260515T080000Z
DTEND:20260517T170000Z
URL:https://calendarte.illustietor.com/event/44a-comic-barcelona
GEO:41.3736;2.15018
LOCATION:Fira Barcelona Montjuïc - Avinguda de Rius i Taulet\, el Poble-sec
	\, Sants-Montjuïc\, Barcelona\, Barcelonès\, Barcelona\, Catalunya\, 08001
	\, España
STATUS:CONFIRMED
CATEGORIES:Artist Alley,Barcelona,Cataluña,Cómic,Entrada de pago,España,Fer
	ia,Ficomic
END:VEVENT
BEGIN:VEVENT
UID:288@calendarte.illustietor.com
SUMMARY:Qomic Boom 2026
DTSTAMP:20260421T203942Z
DTSTART:20260905T080000Z
DTEND:20260906T215900Z
URL:https://calendarte.illustietor.com/event/qomic-boom-2026
GEO:41.3793;2.12779
LOCATION:Centro Cívico Joan Oliver "Pere Quart" - 6\, Carrer del Comandant 
	Benítez\, la Maternitat i Sant Ramon\, les Corts\, Barcelona\, Barcelonès\
	, Barcelona\, Catalunya\, 08028\, España
STATUS:CONFIRMED
CATEGORIES:Artist Alley,Autoedición,Barcelona,Cataluña,Cómic,Entrada libre,
	España,Ilustración
END:VEVENT
BEGIN:VEVENT
UID:258@calendarte.illustietor.com
SUMMARY:Oh! Comics Fest Barcelona 2026
DTSTAMP:20260421T203942Z
DTSTART:20261002T140000Z
DTEND:20261004T215900Z
URL:https://calendarte.illustietor.com/event/oh-comics-fest-barcelona-2026
GEO:41.4377;2.19113
LOCATION:Barrio Sant Andreu de Barcelona - Carrer de Joan Torras\, Sant And
	reu de Palomar\, Sant Andreu\, Barcelona\, Barcelonès\, Barcelona\, Catalu
	nya\, 08030\, España
STATUS:CONFIRMED
CATEGORIES:Artist Alley,Autoedición,Barcelona,Cataluña,Cómic,Entrada libre,
	España,Fanzine,Ilustración
END:VEVENT
BEGIN:VEVENT
UID:283@calendarte.illustietor.com
SUMMARY:31 Manga Barcelona
DTSTAMP:20260421T203942Z
DTSTART:20261205T090000Z
DTEND:20261208T190000Z
URL:https://calendarte.illustietor.com/event/31-manga-barcelona
GEO:41.355;2.13264
LOCATION:Fira Barcelona Gran Via - Fira de Barcelona - Fira Gran Via\, Carr
	er de la Física\, Granvia Sud\, Districte III\, l'Hospitalet de Llobregat\
	, Barcelonès\, Barcelona\, 08908\, España
STATUS:CONFIRMED
CATEGORIES:Artist Alley,Barcelona,Cataluña,Entrada de pago,España,Feria,Fic
	omic,Manganime
END:VEVENT
END:VCALENDAR
